BEGIN:VCALENDAR
VERSION:2.0
PRODID:-//Todos Veracruz - ECPv6.15.20//NONSGML v1.0//EN
CALSCALE:GREGORIAN
METHOD:PUBLISH
X-ORIGINAL-URL:https://todosveracruz.org
X-WR-CALDESC:Eventos para Todos Veracruz
REFRESH-INTERVAL;VALUE=DURATION:PT1H
X-Robots-Tag:noindex
X-PUBLISHED-TTL:PT1H
BEGIN:VTIMEZONE
TZID:UTC
BEGIN:STANDARD
TZOFFSETFROM:+0000
TZOFFSETTO:+0000
TZNAME:UTC
DTSTART:20240101T000000
END:STANDARD
END:VTIMEZONE
BEGIN:VEVENT
DTSTART;VALUE=DATE:20250402
DTEND;VALUE=DATE:20250403
DTSTAMP:20260421T154241
CREATED:20241003T023857Z
LAST-MODIFIED:20241003T023857Z
UID:509-1743552000-1743638399@todosveracruz.org
SUMMARY:Caravana de Autos: Conciencia por el Autismo - Ver Autismo A.C.
DESCRIPTION:
URL:https://todosveracruz.org/evento/caravana-de-autos-conciencia-por-el-autismo-ver-autismo-a-c/
LOCATION:Veracruz
ATTACH;FMTTYPE=image/jpeg:https://todosveracruz.org/wp-content/uploads/2024/09/VerAutismo-01.jpg
END:VEVENT
END:VCALENDAR